BEGIN:VCALENDAR
VERSION:2.0
PRODID:-//Arts Margaret River - ECPv6.15.20//NONSGML v1.0//EN
CALSCALE:GREGORIAN
METHOD:PUBLISH
X-WR-CALNAME:Arts Margaret River
X-ORIGINAL-URL:https://artsmargaretriver.com
X-WR-CALDESC:Events for Arts Margaret River
REFRESH-INTERVAL;VALUE=DURATION:PT1H
X-Robots-Tag:noindex
X-PUBLISHED-TTL:PT1H
BEGIN:VTIMEZONE
TZID:Australia/Perth
BEGIN:STANDARD
TZOFFSETFROM:+0800
TZOFFSETTO:+0800
TZNAME:AWST
DTSTART:20250101T000000
END:STANDARD
END:VTIMEZONE
BEGIN:VEVENT
DTSTART;TZID=Australia/Perth:20260325T193000
DTEND;TZID=Australia/Perth:20260325T210000
DTSTAMP:20260420T155930
CREATED:20250819T111914Z
LAST-MODIFIED:20260310T085354Z
UID:10019280-1774467000-1774472400@artsmargaretriver.com
SUMMARY:Anh Do – The Happiest Refugee Live!
DESCRIPTION:Doors will open 60 minutes prior to the event\n\n\n\n\n\n\nSOLD OUT\n\n\n\nPerforming Arts\n\n\n\n\n\n\n\n\n\n\nAnh Do’s bestselling book The Happiest Refugee has made readers laugh and cry\, and was described by Russell Crowe as ‘the most surprising and inspiring read I have had in years.’\n\n\n\nAnh’s stage show takes it a step further\, combining stand-up comedy with real life stories\, photos and filmed pieces to retell his amazing story. \n\n\n\nWhen one of Australia’s most talented comedians delves deep into his own life’s joys and sorrows\, the result is an unforgettable night at the theatre that leaves an audience uplifted and quite simply experiencing… happiness. \n\n\n\n‘Irrepressible good humour\, infectious energy and bright optimism’ The Sydney Morning Herald.‘The happiest audience experience I have ever had’ …ArtsHub.‘Two thumbs\, five stars\, show of the season’ The Music. \n\n\n\nwww.alist.com.au | www.anhdo.com \n\n\n\n\n\n\n\n\n\n\n\n\n\n\n\n\n\n\n\n\n\n\n\n\n\n\n\n\n\n\nPrint\n				Print (Opens in new window)\n				Print\n			\n				Email a link to a friend (Opens in new window)\n				Email
URL:https://artsmargaretriver.com/event/anh-do-the-happiest-refugee-live/
LOCATION:Nala Bardip Mia – Margaret River HEART\, 47 Wallcliffe Road\, Margaret River\, WA\, 6285\, Australia
CATEGORIES:Author Talk,Comedy,Literature,Main Theatre,Special Event
ATTACH;FMTTYPE=image/jpeg:https://artsmargaretriver.com/wp-content/uploads/2025/08/highres_anh_1920x1080.jpg
GEO:-33.954447;115.067953
X-APPLE-STRUCTURED-LOCATION;VALUE=URI;X-ADDRESS=Nala Bardip Mia – Margaret River HEART 47 Wallcliffe Road Margaret River WA 6285 Australia;X-APPLE-RADIUS=500;X-TITLE=47 Wallcliffe Road:geo:115.067953,-33.954447
END:VEVENT
BEGIN:VEVENT
DTSTART;TZID=Australia/Perth:20260324T190000
DTEND;TZID=Australia/Perth:20260324T204500
DTSTAMP:20260420T155930
CREATED:20251222T025513Z
LAST-MODIFIED:20260320T052152Z
UID:10021606-1774378800-1774385100@artsmargaretriver.com
SUMMARY:GLORIA – A TRIPLE BILL
DESCRIPTION:Co3 Contemporary Dance & The New Zealand Dance Company \n\n\n\nDoors will open 60 minutes prior to the event\n\n\n\n\n\n\nBuy Tickets\n\n\n\nPerforming Arts\n\n\n\nFAB Club\n\n\n\n\n\n\n\n\n\n\n\n\n\n\nCo3 Contemporary Dance Australia and The New Zealand Dance Company present\, GLORIA – A TRIPLE BILL\n\n\n\nA celebration of life and legacy in dance and music.\n\n\n\nIn a landmark collaboration\, dancers from both Co3 Contemporary Dance and The New Zealand Dance Company honour one of our most revered choreographers\, the late Douglas Wright\, with the restaging of his iconic masterpiece GLORIA. \n\n\n\nAcclaimed as one of New Zealand’s most magnificent artists of the 21st century and renowned for his beautiful\, brave\, and innovative work\, Douglas Wright’s work has featured in five previous Festivals\, including GLORIA in 1992.  \n\n\n\nSet to Vivaldi’s most famous sacred score\, this exhilarating performance bursts with joy and hope as dancers fly\, twist and turn in a graceful airborne celebration of life.  \n\n\n\nThis groundbreaking triple-bill brings together leading voices from both sides of the Tasman\, featuring A MOVING PORTRAIT by Co3’s Founding Artistic Director Raewyn Hill\, and LAMENT by renowned Māori choreographer and Artistic Director of The New Zealand Dance Company Moss Patterson. \n\n\n\nHill’s A MOVING PORTRAIT offers an intimate meditative reflection on ageing\, fragility\, and grace\, set to Arvo Pärt’s Tabula Rasa.  \n\n\n\nPatterson’s LAMENT traces a powerful journey through memory and resilience\, honouring the endurance of whakapapa and the visionary artistry of Douglas Wright.   \n\n\n\nDon’t miss this stunning celebration of life and legacy in dance and music.  \n\n\n\nArtistic Director\, Raewyn Hill\, is supported by Wesfarmers Arts.The Regional Tour of GLORIA – A TRIPLE BILL is proudly supported by the Government of Western Australia. \n\n\n\n\n\n\n\n\n\n\n\n*VIP tickets include drinks and canapés on the Mezzanine* \n\n\n\n\n\n\n\n\n\n\n\n\n\n\n\n\n\n\nArts Margaret River Member Price\, Animation\, Cinema\, Comedy\, Family\, Main Theatre\, Science Fiction\n\n\n\n\n\nPrint\n				Print (Opens in new window)\n				Print\n			\n				Email a link to a friend (Opens in new window)\n				Email
URL:https://artsmargaretriver.com/event/gloria-a-triple-bill/
LOCATION:Nala Bardip Mia – Margaret River HEART\, 47 Wallcliffe Road\, Margaret River\, WA\, 6285\, Australia
CATEGORIES:Arts Margaret River Member Price,Classical Music,Dance,FABClub,Main Theatre,Mezzanine,Music,Performing Arts,Special Event,Theatre
ATTACH;FMTTYPE=image/jpeg:https://artsmargaretriver.com/wp-content/uploads/2025/12/CO3-Gloria.jpg
GEO:-33.954447;115.067953
X-APPLE-STRUCTURED-LOCATION;VALUE=URI;X-ADDRESS=Nala Bardip Mia – Margaret River HEART 47 Wallcliffe Road Margaret River WA 6285 Australia;X-APPLE-RADIUS=500;X-TITLE=47 Wallcliffe Road:geo:115.067953,-33.954447
END:VEVENT
BEGIN:VEVENT
DTSTART;TZID=Australia/Perth:20260323T143000
DTEND;TZID=Australia/Perth:20260323T153000
DTSTAMP:20260420T155930
CREATED:20251120T112544Z
LAST-MODIFIED:20260316T062546Z
UID:10019536-1774276200-1774279800@artsmargaretriver.com
SUMMARY:Japonisme
DESCRIPTION:Presented by Susan Kay-Williams & ArtsNational Margaret River\n\n\n\n\n\n\nBuy Tickets (via Trybooking)\n\n\n\n2026 Lecture Subscription\n\n\n\n\n\n\n\n\n\n\nAfter Japan opened its doors to Europeans and Americans in 1854 the Japanese also visited the west at the international exhibitions in London\, Paris and Philadelphia to show their work. \n\n\n\nThis gave European artists the opportunity to explore the work of Japanese masters of paintings and woodcuts. This lecture shows how western artists from Van Gogh to Walter Crane were influenced by the works they saw from Japan and how they developed their own work as a response. \n\n\n\n\n\n\n\n\n\n\n\n\n\n\n\n\n\n\nPrint\n				Print (Opens in new window)\n				Print\n			\n				Email a link to a friend (Opens in new window)\n				Email
URL:https://artsmargaretriver.com/event/japoniseme/
LOCATION:Nala Bardip Mia – Margaret River HEART\, 47 Wallcliffe Road\, Margaret River\, WA\, 6285\, Australia
CATEGORIES:Spoken Word,Studio Theatre,Visual Arts
ATTACH;FMTTYPE=image/jpeg:https://artsmargaretriver.com/wp-content/uploads/2025/11/EHI1450370-c987822e249e4ac392d1e42b2ccf01bc.jpg
GEO:-33.954447;115.067953
X-APPLE-STRUCTURED-LOCATION;VALUE=URI;X-ADDRESS=Nala Bardip Mia – Margaret River HEART 47 Wallcliffe Road Margaret River WA 6285 Australia;X-APPLE-RADIUS=500;X-TITLE=47 Wallcliffe Road:geo:115.067953,-33.954447
END:VEVENT
BEGIN:VEVENT
DTSTART;TZID=Australia/Perth:20260323T123000
DTEND;TZID=Australia/Perth:20260323T140000
DTSTAMP:20260420T155930
CREATED:20251120T112035Z
LAST-MODIFIED:20260219T110753Z
UID:10019535-1774269000-1774274400@artsmargaretriver.com
SUMMARY:Imperial Purple to Marie Antoinette's Fleas: The Colourful History of Textiles
DESCRIPTION:Presented by Susan Kay-Williams & ArtsNational Margaret River\n\n\n\n\n\n\nBuy Tickets (via Trybooking)\n\n\n\n2026 Lecture Subscription\n\n\n\n\n\n\n\n\n\n\nThis lecture explores the fascinating story of how dyes were discovered\, made\, and used from the earliest time to the end of the 18th century. \n\n\n\nIt shows the social importance of certain colours including red\, blue\, and purple. It is a story that travels from Europe to India and the Americas\, a story of exploration\, invention\, war\, the church\, money\, power\, and sex. \n\n\n\nSusan has a longstanding interest in textiles\, especially colour. She is a Fellow of the Royal Society of Arts and the Chartered Institute of Marketing and a Fellow of the Society of Dyers and Colourists in recognition of her work on the history of dyes. She has extensive lecturing experience and has published many books on textiles and needlework. She is eminently well qualified to deliver lectures on all areas connected textiles. \n\n\n\n\n\n\n\n\n\n\n\n\n\n\n\n\n\n\nPrint\n				Print (Opens in new window)\n				Print\n			\n				Email a link to a friend (Opens in new window)\n				Email
URL:https://artsmargaretriver.com/event/imperial-purple-to-marie-antoinettes-fleas-the-colourful-history-of-textiles/
LOCATION:Nala Bardip Mia – Margaret River HEART\, 47 Wallcliffe Road\, Margaret River\, WA\, 6285\, Australia
CATEGORIES:Spoken Word,Studio Theatre,Visual Arts
ATTACH;FMTTYPE=image/jpeg:https://artsmargaretriver.com/wp-content/uploads/2025/11/EHI1430463-78217bca33e544319b99aa5bedc6b4ac.jpg
GEO:-33.954447;115.067953
X-APPLE-STRUCTURED-LOCATION;VALUE=URI;X-ADDRESS=Nala Bardip Mia – Margaret River HEART 47 Wallcliffe Road Margaret River WA 6285 Australia;X-APPLE-RADIUS=500;X-TITLE=47 Wallcliffe Road:geo:115.067953,-33.954447
END:VEVENT
BEGIN:VEVENT
DTSTART;TZID=Australia/Perth:20260323T100000
DTEND;TZID=Australia/Perth:20260323T110000
DTSTAMP:20260420T155930
CREATED:20260223T025213Z
LAST-MODIFIED:20260316T082701Z
UID:10021798-1774260000-1774263600@artsmargaretriver.com
SUMMARY:Young@HEART - Hannah Kerr with Anna Bogachova & Max Palmer
DESCRIPTION:Donations Welcome\n\n\n\nSign up to Young@HEART eNewsletter\n\n\n\nMusic\n\n\n\n\n\n\n\n\n\n\n\n\n\n\nHannah Kerr\n\n\n\nHannah Hale is a 17 year old soprano\, who enjoys singing a variety of music genres\, including jazz and contemporary\, but specialises in classical opera. Hannah looks forward to study music after school\, and one day travel the world performing. She hopes her music will touch the hearts of many people\, and is very excited to share her love of singing with the community.  The classical pieces she will be performing are from a variety of eras\, some which will keep you on your toes and others pulling on the emotional heart strings of the audience.  When Hannah sings she wants to be able to move people\, connect with the audience\, and allowing them to just stop\, be in the moment and enjoy the sounds.  Hannah has recently released her debut originals\, “It’s Love” and “Expectations” which are available on all streaming platforms.  Photo credit: Morrison Photography    \n\n\n\nAnna Bogachova\n\n\n\nAnna Bogachova graduated from Ukraine’s Kharkiv University of Art. Since then her music has seen her performing at various Lounge\, Concert and Piano Bar venues in the Middle East and Australia. Anna is currently teaching piano privately and performing with various musicians and groups across the South West. Anna will be accompanying Hannah on piano. \n\n\n\nMax Palmer\n\n\n\nMax is a 14-year-old pianist who has been homeschooled all his life. He has been playing the piano for around five years and is largely self-taught. Developing his skills mostly by ear rather than reading sheet music\, he enjoys learning well-known pieces and music from films. He is especially inspired by the soundtrack of Amélie\, composed by Yann Tiersen. He will also be performing a piece from the movie The Greatest Showman and a song by Tom Petty. Max loves playing the piano when no one is watching or listening so performing in front of a live audience for the first time is daunting\, but he is excited by the challenge. His sister Lili will be accompanying him on stage\, playing guitar and singing.  \n\n\n\nAbout Young@HEART\n\n\n\nThe Young@HEART music program is held at Margaret River HEART every Monday morning from 10am to 11am. The program does not run on public holidays or when there is another major event in the foyer. \n\n\n\nThe initiative was developed to safely encourage participation in the arts among older residents (over 60s) during the initial stages of the COVID-19 pandemic.  \n\n\n\nDue to high interest\, the free performances have since been opened to people of all ages. Nonetheless\, the senior demographic still makes up the majority of the audience. \n\n\n\nVenue\n\n\n\nFoyer \n\n\n\nRun-Time\n\n\n\n60 minutes \n\n\n\nTicket Prices\n\n\n\nFree \n\n\n\n\n\n\n\n\n\n\n\n\n\n\n\n\nArts Margaret River Member Price\, Animation\, Cinema\, Comedy\, Family\, Main Theatre\, Science Fiction\n\n\n\n\n\n\n\n\n\n\n\n\n\n\n\nPrint\n				Print (Opens in new window)\n				Print\n			\n				Email a link to a friend (Opens in new window)\n				Email
URL:https://artsmargaretriver.com/event/youngheart-hannah-kerr-with-anna-bogachova-max-palmer/
LOCATION:Nala Bardip Mia – Margaret River HEART\, 47 Wallcliffe Road\, Margaret River\, WA\, 6285\, Australia
CATEGORIES:Foyer,Free,Fundraising Events,Jazz,Music,Performing Arts,Young@HEART
ATTACH;FMTTYPE=image/jpeg:https://artsmargaretriver.com/wp-content/uploads/2025/09/Hannah-Kerr.jpg
GEO:-33.954447;115.067953
X-APPLE-STRUCTURED-LOCATION;VALUE=URI;X-ADDRESS=Nala Bardip Mia – Margaret River HEART 47 Wallcliffe Road Margaret River WA 6285 Australia;X-APPLE-RADIUS=500;X-TITLE=47 Wallcliffe Road:geo:115.067953,-33.954447
END:VEVENT
BEGIN:VEVENT
DTSTART;TZID=Australia/Perth:20260321T190000
DTEND;TZID=Australia/Perth:20260321T220000
DTSTAMP:20260420T155930
CREATED:20251006T082839Z
LAST-MODIFIED:20260309T103054Z
UID:10019461-1774119600-1774130400@artsmargaretriver.com
SUMMARY:Ocean Film Festival 2026
DESCRIPTION:Presented by Adventure Reels\n\n\n\nDoors will open 60 minutes prior to the event\n\n\n\n\n\n\nBuy Tickets\n\n\n\nFestivals\n\n\n\nMovies\n\n\n\n\n\n\n\n\n\n\n\n\n\n\nDesigned to mesmerise and enthral\, the Ocean Film Festival World Tour showcases a 3 hour celebration of our oceans comprised of sublime footage taken above and below the water’s surface. \n\n\n\nThis unique collection of short films from around the globe document the beauty and power of the ocean\, and celebrate the divers\, surfers\, swimmers and oceanographers who live for the sea’s salt spray; who chase the crests of waves; and who marvel at the mysteries of the big blue. \n\n\n\nThe films feature captivating cinematography\, complete with awe-inspiring underwater scenes and fast-paced wave sequences that have been captured from unbelievable vantage points. \n\n\n\nInspiring and thought-provoking\, the Ocean Film Festival World Tour is filled with moving footage\, touching interviews and insightful narrations. Each of the festival’s films conveys a deep respect and appreciation for the world’s oceans and the creatures that call them home. \n\n\n\nFind out more at www.oceanfilmfestival.com.auSORRY NO REFUNDS \n\n\n\n\n\n\n\n\n\n\n\n\n\n\n\n\n\n\n\n \n\n\n\n\n\n\n\n\n\n\n\n\n\n\nArts Margaret River Member Price\, Animation\, Cinema\, Comedy\, Family\, Main Theatre\, Science Fiction\n\n\n\n\n\n\n\n\n\n\n\n\n \nPrint\n				Print (Opens in new window)\n				Print\n			\n				Email a link to a friend (Opens in new window)\n				Email
URL:https://artsmargaretriver.com/event/ocean-film-festival-2026/
LOCATION:Nala Bardip Mia – Margaret River HEART\, 47 Wallcliffe Road\, Margaret River\, WA\, 6285\, Australia
CATEGORIES:Action,Adventure,Arts Margaret River Member Price,Cinema,Documentary,Film Festival,Main Theatre,Special Event,Sport
ATTACH;FMTTYPE=image/jpeg:https://artsmargaretriver.com/wp-content/uploads/2025/10/12x9-OFF.jpg
GEO:-33.954447;115.067953
X-APPLE-STRUCTURED-LOCATION;VALUE=URI;X-ADDRESS=Nala Bardip Mia – Margaret River HEART 47 Wallcliffe Road Margaret River WA 6285 Australia;X-APPLE-RADIUS=500;X-TITLE=47 Wallcliffe Road:geo:115.067953,-33.954447
END:VEVENT
BEGIN:VEVENT
DTSTART;TZID=Australia/Perth:20260320T190000
DTEND;TZID=Australia/Perth:20260320T210600
DTSTAMP:20260420T155930
CREATED:20260203T073236Z
LAST-MODIFIED:20260318T043800Z
UID:10021650-1774033200-1774040760@artsmargaretriver.com
SUMMARY:Hamnet (M) - 20th March 7pm
DESCRIPTION:Kiosk opens 30 minutes prior to screening\n\n\n\n\n\n\nBuy Tickets\n\n\n\n\n\n\n\n\n\n\n\n\n\n\n\n\n\n \n\n\nThe powerful story of love and loss that inspired the creation of Shakespeare’s timeless masterpiece\, Hamlet.\n\n\n\n\n\n\n\n\n\n\n\n\n\n\n\n\n\n\n\n\n\n\n\n\n\n\n\n\nPrint\n				Print (Opens in new window)\n				Print\n			\n				Email a link to a friend (Opens in new window)\n				Email
URL:https://artsmargaretriver.com/event/hamnet-m/
LOCATION:Nala Bardip Mia – Margaret River HEART\, 47 Wallcliffe Road\, Margaret River\, WA\, 6285\, Australia
CATEGORIES:Arts Margaret River Member Price,Cinema,Drama,Main Theatre,Romance
ATTACH;FMTTYPE=image/jpeg:https://artsmargaretriver.com/wp-content/uploads/2026/02/Hamnet.jpg
GEO:-33.954447;115.067953
X-APPLE-STRUCTURED-LOCATION;VALUE=URI;X-ADDRESS=Nala Bardip Mia – Margaret River HEART 47 Wallcliffe Road Margaret River WA 6285 Australia;X-APPLE-RADIUS=500;X-TITLE=47 Wallcliffe Road:geo:115.067953,-33.954447
END:VEVENT
BEGIN:VEVENT
DTSTART;TZID=Australia/Perth:20260320T123000
DTEND;TZID=Australia/Perth:20260320T145000
DTSTAMP:20260420T155930
CREATED:20260225T063216Z
LAST-MODIFIED:20260225T063908Z
UID:10021812-1774009800-1774018200@artsmargaretriver.com
SUMMARY:Hamnet (M) - 20th March 12:30pm
DESCRIPTION:Kiosk opens 30 minutes prior to the event\n\n\n\n\n\n\nBuy Tickets\n\n\n\n\n\n\n\n\n\n\n\n\n\n \n\n\nThe powerful story of love and loss that inspired the creation of Shakespeare’s timeless masterpiece\, Hamlet.\n\n\n\n\n\n\n\n\n\n\n\n\n\n\n\n\n\n\n\n\n\n\n\n\n\n\n\n\nPrint\n				Print (Opens in new window)\n				Print\n			\n				Email a link to a friend (Opens in new window)\n				Email
URL:https://artsmargaretriver.com/event/hamnet-m-20th-march-1230pm/
LOCATION:Nala Bardip Mia – Margaret River HEART\, 47 Wallcliffe Road\, Margaret River\, WA\, 6285\, Australia
CATEGORIES:Cinema,Drama,Main Theatre,Romance
ATTACH;FMTTYPE=image/jpeg:https://artsmargaretriver.com/wp-content/uploads/2026/02/Hamnet-2.jpg
GEO:-33.954447;115.067953
X-APPLE-STRUCTURED-LOCATION;VALUE=URI;X-ADDRESS=Nala Bardip Mia – Margaret River HEART 47 Wallcliffe Road Margaret River WA 6285 Australia;X-APPLE-RADIUS=500;X-TITLE=47 Wallcliffe Road:geo:115.067953,-33.954447
END:VEVENT
END:VCALENDAR