BEGIN:VCALENDAR
VERSION:2.0
PRODID:-//Arts Margaret River - ECPv6.15.20//NONSGML v1.0//EN
CALSCALE:GREGORIAN
METHOD:PUBLISH
X-ORIGINAL-URL:https://artsmargaretriver.com
X-WR-CALDESC:Events for Arts Margaret River
REFRESH-INTERVAL;VALUE=DURATION:PT1H
X-Robots-Tag:noindex
X-PUBLISHED-TTL:PT1H
BEGIN:VTIMEZONE
TZID:Australia/Perth
BEGIN:STANDARD
TZOFFSETFROM:+0800
TZOFFSETTO:+0800
TZNAME:AWST
DTSTART:20250101T000000
END:STANDARD
END:VTIMEZONE
BEGIN:VEVENT
DTSTART;TZID=Australia/Perth:20260727T123000
DTEND;TZID=Australia/Perth:20260727T140000
DTSTAMP:20260425T113245
CREATED:20260126T031715Z
LAST-MODIFIED:20260219T113151Z
UID:10021633-1785155400-1785160800@artsmargaretriver.com
SUMMARY:Florence and the Italian Renaissance
DESCRIPTION:Presented by Charlie Hall & ArtsNational Margaret River\n\n\n\n\n\n\nBuy Tickets (via Trybooking)\n\n\n\n2026 Lecture Subscription\n\n\n\n\n\n\n\n\n\n\nWe are all so familiar with the ideas and culture of the (Italian) Renaissance; a phenomenon that emerged in the 15th century. \n\n\n\nBut why did Florence act as the midwife for this? What did this city provide that enabled this birth\, and encouraged it to flourish? Is it something that was so efficiently reported and propagandised by people such as Giorgio Vasari in how we accept that Florence was indeed where the Italian Renaissance emerged? \n\n\n\nCharlie Hall is a passionate arts educator\, lecturer and guide\, based in London and Italy. He is a director of the highly regarded John Hall Venice Course\, (est. 1965) tour lecturer and leader of independent tours in Italy.  Charlie has designed a series of art talks and led courses for Christie’s Education and The Serpentine Gallery ‘Collector’s Circle. \n\n\n\n\n\n\n\n\n\n\n\n\n\n\n\n\n\n\nPrint\n				Print (Opens in new window)\n				Print\n			\n				Email a link to a friend (Opens in new window)\n				Email
URL:https://artsmargaretriver.com/event/florence-and-the-italian-renaissance/
LOCATION:Nala Bardip Mia – Margaret River HEART\, 47 Wallcliffe Road\, Margaret River\, WA\, 6285\, Australia
CATEGORIES:Spoken Word,Studio Theatre
ATTACH;FMTTYPE=image/jpeg:https://artsmargaretriver.com/wp-content/uploads/2026/01/EHI1450378-796ceeecd38246f283f82ef509fae068.jpg
GEO:-33.954447;115.067953
X-APPLE-STRUCTURED-LOCATION;VALUE=URI;X-ADDRESS=Nala Bardip Mia – Margaret River HEART 47 Wallcliffe Road Margaret River WA 6285 Australia;X-APPLE-RADIUS=500;X-TITLE=47 Wallcliffe Road:geo:115.067953,-33.954447
END:VEVENT
BEGIN:VEVENT
DTSTART;TZID=Australia/Perth:20260727T143000
DTEND;TZID=Australia/Perth:20260727T153000
DTSTAMP:20260425T113245
CREATED:20260126T032439Z
LAST-MODIFIED:20260219T113115Z
UID:10021634-1785162600-1785166200@artsmargaretriver.com
SUMMARY:Peggy Guggenheim: A Life of Collecting
DESCRIPTION:Presented by Charlie Hall & ArtsNational Margaret River\n\n\n\n\n\n\nBuy Tickets (via Trybooking)\n\n\n\n2026 Lecture Subscription\n\n\n\n\n\n\n\n\n\n\nDescribing herself by writing\, “I am a museum”\, Peggy Guggenheim’s life took a clear path\, from commercial gallery in London\, going on a single-minded shopping trip to Paris in the late 1930’s even as the German tanks were rolling in to the suburbs\, to escape (with her selection of European artists) to New York and the subsequent establishment of her museum (and Arts centre)\, and finally the purchase of the eccentric ‘unfinished palazzo’ in Venice. Her collection remains one of the most iconic assemblages of Twentieth century art in the world. \n\n\n\nCharlie Hall is a passionate arts educator\, lecturer and guide\, based in London and Italy. He is a director of the highly regarded John Hall Venice Course\, (est. 1965) tour lecturer and leader of independent tours in Italy.  Charlie has designed a series of art talks and led courses for Christie’s Education and The Serpentine Gallery ‘Collector’s Circle. \n\n\n\n\n\n\n\n\n\n\n\n\n\n\n\n\n\n\nPrint\n				Print (Opens in new window)\n				Print\n			\n				Email a link to a friend (Opens in new window)\n				Email
URL:https://artsmargaretriver.com/event/peggy-guggenheim-a-life-of-collecting/
LOCATION:Nala Bardip Mia – Margaret River HEART\, 47 Wallcliffe Road\, Margaret River\, WA\, 6285\, Australia
CATEGORIES:Spoken Word,Studio Theatre,Visual Arts
ATTACH;FMTTYPE=image/jpeg:https://artsmargaretriver.com/wp-content/uploads/2026/01/j6n4jxcaim7m7QKThxYb2pYlNflArlndwMoc3l8x.jpg
GEO:-33.954447;115.067953
X-APPLE-STRUCTURED-LOCATION;VALUE=URI;X-ADDRESS=Nala Bardip Mia – Margaret River HEART 47 Wallcliffe Road Margaret River WA 6285 Australia;X-APPLE-RADIUS=500;X-TITLE=47 Wallcliffe Road:geo:115.067953,-33.954447
END:VEVENT
END:VCALENDAR