BEGIN:VCALENDAR
VERSION:2.0
PRODID:-//Arts Margaret River - ECPv6.15.20//NONSGML v1.0//EN
CALSCALE:GREGORIAN
METHOD:PUBLISH
X-WR-CALNAME:Arts Margaret River
X-ORIGINAL-URL:https://artsmargaretriver.com
X-WR-CALDESC:Events for Arts Margaret River
REFRESH-INTERVAL;VALUE=DURATION:PT1H
X-Robots-Tag:noindex
X-PUBLISHED-TTL:PT1H
BEGIN:VTIMEZONE
TZID:Australia/Perth
BEGIN:STANDARD
TZOFFSETFROM:+0800
TZOFFSETTO:+0800
TZNAME:AWST
DTSTART:20250101T000000
END:STANDARD
END:VTIMEZONE
BEGIN:VEVENT
DTSTART;TZID=Australia/Perth:20260330T100000
DTEND;TZID=Australia/Perth:20260330T110000
DTSTAMP:20260425T084506
CREATED:20260309T070632Z
LAST-MODIFIED:20260319T011952Z
UID:10021851-1774864800-1774868400@artsmargaretriver.com
SUMMARY:Young@HEART - 'Something to Share' with Hellie Turner & Friends
DESCRIPTION:Donations Welcome\n\n\n\nSign up to Young@HEART eNewsletter\n\n\n\nMusic\n\n\n\n\n\n\n\n\n\n\n\n\n\n\n‘Something to Share’ \n\n\n\nThis year there are 8 enthusiastic participants in the U3A writing workshop ‘Something to Share’… all of whom have spent 6 weeks discussing\, crafting\, writing and perfecting a tale from their lives.   \n\n\n\nAs for 2025\, the stories are wonderfully varied\, and each one is an entrancing little gem. The writers\, in no particular order\, are Heather Locke\, Linda McKellar\, Gillian Hayter\, Ian Baxter\, Lyn Serventy\, Dawn Ambrose\, Nada Ilian and Jo Jennings.  \n\n\n\nFor the Young@Heart audience on March 30 each of these writers will present their own story… a very personal gift of sharing. \n\n\n\nAbout Young@HEART\n\n\n\nThe Young@HEART music program is held at Margaret River HEART every Monday morning from 10am to 11am. The program does not run on public holidays or when there is another major event in the foyer. \n\n\n\nThe initiative was developed to safely encourage participation in the arts among older residents (over 60s) during the initial stages of the COVID-19 pandemic.  \n\n\n\nDue to high interest\, the free performances have since been opened to people of all ages. Nonetheless\, the senior demographic still makes up the majority of the audience. \n\n\n\nVenue\n\n\n\nFoyer \n\n\n\nRun-Time\n\n\n\n60 minutes \n\n\n\nTicket Prices\n\n\n\nFree \n\n\n\n\n\n\n\n\n\n\n\n\n\n\n\n\nArts Margaret River Member Price\, FABClub\, Main Theatre\, Special Event\, Spoken Word\, Theatre\n\n\n\n\n\n\n\n\n\n\n\n\n\n\n\nPrint\n				Print (Opens in new window)\n				Print\n			\n				Email a link to a friend (Opens in new window)\n				Email
URL:https://artsmargaretriver.com/event/youngheart-something-to-share-with-hellie-turner-friends/
LOCATION:Nala Bardip Mia – Margaret River HEART\, 47 Wallcliffe Road\, Margaret River\, WA\, 6285\, Australia
CATEGORIES:Foyer,Free,Fundraising Events,Music,Performing Arts,Spoken Word,Young@HEART
ATTACH;FMTTYPE=image/jpeg:https://artsmargaretriver.com/wp-content/uploads/2026/03/Hellie-Turner-Y@H-12x9-.jpg
GEO:-33.954447;115.067953
X-APPLE-STRUCTURED-LOCATION;VALUE=URI;X-ADDRESS=Nala Bardip Mia – Margaret River HEART 47 Wallcliffe Road Margaret River WA 6285 Australia;X-APPLE-RADIUS=500;X-TITLE=47 Wallcliffe Road:geo:115.067953,-33.954447
END:VEVENT
END:VCALENDAR